BEGIN:VCALENDAR
VERSION:1.0
BEGIN:VEVENT
CATEGORIES:
STATUS:CONFIRMED
DTSTART:20161108T180500Z
DTEND:20161108T190500Z
SUMMARY:Start:up Müsli: Spletna trgovina ki prodaja
DESCRIPTION:S tremi zanimivimi gosti\, ki jih na Musliju še nismo gostili\, bomo poiskali odgovore in jih zapakirali v »recept« za uspeh spletne prodaje. \n\n
LOCATION:KID KIBLA
END:VEVENT
END:VCALENDAR