BEGIN:VCALENDAR
VERSION:1.0
BEGIN:VEVENT
CATEGORIES:
STATUS:CONFIRMED
DTSTART:20161108T143000Z
DTEND:20161108T153000Z
SUMMARY:Delavnica: Razvijanje produkta v sodelovanju z uporabniki 
DESCRIPTION:Ujemanje problem/rešitev. Kako in zakaj produkt razvijati skupaj z uporabniki. 
 \n\n
LOCATION:Tovarna podjemov\, podjetniški inkubator UM
END:VEVENT
END:VCALENDAR