BEGIN:VCALENDAR
VERSION:1.0
BEGIN:VEVENT
CATEGORIES:
STATUS:CONFIRMED
DTSTART:20160405T170500Z
DTEND:20160405T180500Z
SUMMARY:Start:up Müsli: V svetovnem vrhu inovacij in zvoka 
DESCRIPTION:Kako je skladatelj postal startuper in s hiper-direkcijskimi zvočniki revolucioniral avdio tehnološki trg . \n\n
LOCATION:KID KIBLA
END:VEVENT
END:VCALENDAR