BEGIN:VCALENDAR
VERSION:1.0
BEGIN:VEVENT
CATEGORIES:
STATUS:CONFIRMED
DTSTART:20151023T180000Z
DTEND:20151023T190000Z
SUMMARY:Start:up Maribor party
DESCRIPTION:V petek ob 20. uri te vabimo v Vinagovo klet na Start:up Maribor party.
V futuristično atmosfero mestne kleti ste vabljeni vsi\, ki že aktivno delujete v mariborski start-up in podjetniški skupnosti in seveda tudi tisti\, ki se želite vanjo šele vključiti. \n\n
LOCATION:Vinagova klet
END:VEVENT
END:VCALENDAR