BEGIN:VCALENDAR
VERSION:1.0
BEGIN:VEVENT
CATEGORIES:
STATUS:CONFIRMED
DTSTART:20220117T110000Z
DTEND:20220117T120000Z
SUMMARY:Nauči se oglaševanja na Facebooku\, Instagramu in Googlu
DESCRIPTION:Pridruži se nam na intenzivnem usposabljanju z mednarodnim strokovnjakom za digitalni marketing Damirjem Butkovičem\, ki vključuje 3 praktične delavnice\, ki vključujejo praktično delo na delavnici in domačo nalogo med posameznimi srečanji. \n\n
LOCATION:Online
END:VEVENT
END:VCALENDAR