BEGIN:VCALENDAR
VERSION:1.0
BEGIN:VEVENT
CATEGORIES:
STATUS:CONFIRMED
DTSTART:20211125T143000Z
DTEND:20211125T153000Z
SUMMARY:Kako do 54.000 EUR za tvoj startup
DESCRIPTION:Imaš podjetniško idejo za razvoj inovativnega produkta/storitve? Potrebuješ nepovratna sredstva za pospešitev razvoja? Kot vsako leto doslej tudi v letu 2022 pričakujemo objavo razpisa P2. Pridi na dogodek in ugotovi\, ali tvoja ideja in podjetje sploh ustrezata pogojem razpisa. \n\n
LOCATION:Online
END:VEVENT
END:VCALENDAR