BEGIN:VCALENDAR
VERSION:1.0
BEGIN:VEVENT
CATEGORIES:
STATUS:CONFIRMED
DTSTART:20211028T110000Z
DTEND:20211028T120000Z
SUMMARY:Zakaj in kako validirati svoj produkt 
DESCRIPTION:Validacija produkta je edina možna pot\, da na trg dostaviš produkt\, ki ga kupci dejansko potrebujejo in tudi želijo kupiti. Pridi na delavnico z mednarodnimi strokovnjaki iz podjetja Sudolabs\, ki ti bodo povedali\, zakaj in kako validirati svoj produkt na trgu. Spoznali te bodo z različnimi metodami validacije in ti predstavili realne primere validacije drugih podjetij. \n\n
LOCATION:Online
END:VEVENT
END:VCALENDAR