BEGIN:VCALENDAR
VERSION:1.0
BEGIN:VEVENT
CATEGORIES:
STATUS:CONFIRMED
DTSTART:20211111T140000Z
DTEND:20211111T150000Z
SUMMARY:ABC računovodstva
DESCRIPTION:Si tik pred ustanovitvijo podjetja ali pa je ta tik pred ustanovitvijo in nimaš pojma o računovodstvu?
Tudi\, če imaš izbran računovodski servis\, moraš poznati osnove\, da lahko komuniciraš z računovodjo\, in  da\, svoje poslovanje povezano z računovodstvom izvajaš transparentno in zakonito. 
 \n\n
LOCATION:Online
END:VEVENT
END:VCALENDAR