BEGIN:VCALENDAR
VERSION:1.0
BEGIN:VEVENT
CATEGORIES:
STATUS:CONFIRMED
DTSTART:20211130T120000Z
DTEND:20211130T130000Z
SUMMARY:Kako predstaviti svoje podjetje na Instagramu
DESCRIPTION:Si želiš večjo prepoznavnost?  Ali želiš poznati trike\, kdaj in kako objavljati na Instagramu? Bi rad vedel\, zakaj so pomembni #hashtagi? Te zanimajo brezplačna orodja\, s katerimi si lahko pomagaš pri privlačnih objavah? Potem ne zamudi Instagram delavnice…. 

 \n\n
LOCATION:Online
END:VEVENT
END:VCALENDAR