BEGIN:VCALENDAR
VERSION:1.0
BEGIN:VEVENT
CATEGORIES:
STATUS:CONFIRMED
DTSTART:20150904T120000Z
DTEND:20150904T130000Z
SUMMARY:Roadshow Maribor - jesen 2015
DESCRIPTION:Informacije o produktih SK75 in SK200 Slovenskega podjetniškega sklada ter praktični nasveti iz prve roke. \n\n
LOCATION:Tovarna podjemov\, podjetniški inkubator MB
END:VEVENT
END:VCALENDAR