BEGIN:VCALENDAR
VERSION:1.0
BEGIN:VEVENT
CATEGORIES:
STATUS:CONFIRMED
DTSTART:20210927T120000Z
DTEND:20210927T130000Z
SUMMARY:Kako do prvih uporabnikov oz. kupcev
DESCRIPTION:Pridobitev prvih uporabnikov oziroma kupcev ni enostavno. Še posebej če targetiramo napačne!  Poznate pravi način prodora na trg? Če je odgovor NE ali NE VEM\, vam lahko pri tem pomagamo. \n\n
LOCATION:Tovarna podjemov
END:VEVENT
END:VCALENDAR