BEGIN:VCALENDAR
VERSION:1.0
BEGIN:VEVENT
CATEGORIES:
STATUS:CONFIRMED
DTSTART:20210826T110000Z
DTEND:20210826T120000Z
SUMMARY:Skrivnosti YouTube oglaševanja za začetnike
DESCRIPTION:Se želiš naučiti oglaševati na drugi največji iskalni platformi na svetu? Youtube je "skrivno" orožje številnih podjetij\, saj ponuja enega najboljših vpogledov v stranke in možnosti ciljanja. Omogoča ti\, da prideš »do oči« svojih strank z zelo nizkimi stroški. Pridi na delavnico in začni oglaševati na YouTubu! \n\n
LOCATION:Tovarna podjemov
END:VEVENT
END:VCALENDAR