BEGIN:VCALENDAR
VERSION:1.0
BEGIN:VEVENT
CATEGORIES:
STATUS:CONFIRMED
DTSTART:20210226T080000Z
DTEND:20210226T090000Z
SUMMARY:Pitch into the Business World
DESCRIPTION:Ste raziskovalec na univerzi in se želite naučiti\, kako svoj raziskovalni dosežek nadgraditi v poslovno idejo? Prijavite se na delavnico "Pitch into the Business World" in v samo enem dnevu svojo raziskavo pretvorite v prepričljivo predstavitev za poslovno publiko. \n\n
LOCATION:on-line 
END:VEVENT
END:VCALENDAR