BEGIN:VCALENDAR
VERSION:1.0
BEGIN:VEVENT
CATEGORIES:
STATUS:CONFIRMED
DTSTART:20210406T140000Z
DTEND:20210406T150000Z
SUMMARY:Intenzivni program usposabljanja za prodajo »Top selling professional«
DESCRIPTION:Postani mojster vodenja prodajnih sestankov in dvigni prodajno uspešnost. Spoznaj tehnike vrhunskega prepričevanja in uspešnega vzpostavljanja odnosa s stranko. Prijavi se na na intenzivni 5-delni poglobljeni program z mojstrom prodaje\, Silvestrom Kmetičem.  \n\n
LOCATION:on-line 
END:VEVENT
END:VCALENDAR