BEGIN:VCALENDAR
VERSION:1.0
BEGIN:VEVENT
CATEGORIES:
STATUS:CONFIRMED
DTSTART:20201103T120000Z
DTEND:20201103T130000Z
SUMMARY:Brand as a Friend 
DESCRIPTION:Raziskovalci ocenjujejo\, da je kar 95 % naših nakupnih odločitev sprejetih podzavestno. Je prav to priložnost\, da blagovne znamke z ljudmi zgradijo emocionalno vez in tako pomagajo usmeriti odločitve?  \n\n
LOCATION:Online
END:VEVENT
END:VCALENDAR