BEGIN:VCALENDAR
VERSION:1.0
BEGIN:VEVENT
CATEGORIES:
STATUS:CONFIRMED
DTSTART:20201019T110000Z
DTEND:20201019T120000Z
SUMMARY:ABC računovodstva 
DESCRIPTION:Si tik pred ustanovitvijo podjetja ali pa je ta tik pred ustanovitvijo in nimaš pojma o računovodstvu?
Tudi\, če imaš izbran računovodski servis\, moraš poznati osnove\, da lahko komuniciraš z računovodjo\, in  da\, svoje poslovanje povezano z računovodstvom izvajaš transparentno in zakonito. 
 \n\n
LOCATION:Tovarna podjemov
END:VEVENT
END:VCALENDAR