BEGIN:VCALENDAR
VERSION:1.0
BEGIN:VEVENT
CATEGORIES:
STATUS:CONFIRMED
DTSTART:20201013T110000Z
DTEND:20201013T120000Z
SUMMARY:Google Display za začetnike
DESCRIPTION:Google Display Network vam lahko pomaga doseči ljudi\, medtem ko brskajo po svojih najljubših spletnih mestih\, kažejo prijateljem videoposnetek na YouTubu\, preverjajo svoj gmail ali uporabljajo mobilne naprave in aplikacije. \n\n
LOCATION:on-line 
END:VEVENT
END:VCALENDAR