BEGIN:VCALENDAR
VERSION:1.0
BEGIN:VEVENT
CATEGORIES:
STATUS:CONFIRMED
DTSTART:20200930T130000Z
DTEND:20200930T140000Z
SUMMARY:Osnove UX dizajna 
DESCRIPTION:Če bi rad pridobil osnovna znanja s področja uporabniške izkušnje in spoznal\, kako se resno lotiti žičnih modelov in micro animacij\, pridi na delavnico\, kjer se boš naučil osnov uporabniške izkušnje (UX). \n\n
LOCATION:Tovarna podjemov
END:VEVENT
END:VCALENDAR