BEGIN:VCALENDAR
VERSION:1.0
BEGIN:VEVENT
CATEGORIES:
STATUS:CONFIRMED
DTSTART:20200909T130000Z
DTEND:20200909T140000Z
SUMMARY:Imate dovolj poguma za prijavo inovacije na EU razpise
DESCRIPTION:Pridi na delavnico\, kjer ti bomo pokazali pot do uspeha na EU razpisih\, predvsem se bomo posvetili  programu EIC Accelerator v okviru H2020\, s katerim želi Evropska komisija pospešiti uvedbo tehnoloških in ne-tehnoloških inovacij na trg. \n\n
LOCATION:Tovarna podjemov
END:VEVENT
END:VCALENDAR