BEGIN:VCALENDAR
VERSION:1.0
BEGIN:VEVENT
CATEGORIES:
STATUS:CONFIRMED
DTSTART:20200907T130000Z
DTEND:20200907T140000Z
SUMMARY:Poišči svoj “ZAKAJ” in uporabi to moč pri gradnji startupa
DESCRIPTION:Na delavnici\, ki jo bo izvajala Andreja Tišić\, magistra psihologije\, bomo sledili praktični metodi iskanja globljega namena po avtorju Simonu Sineku\, ki je svetovno znan avtor koncepta ZAKAJ in si lasti naziv tretjega najbolj gledanega TED govorca.  \n\n
LOCATION:Tovarna podjemov
END:VEVENT
END:VCALENDAR