BEGIN:VCALENDAR
VERSION:1.0
BEGIN:VEVENT
CATEGORIES:
STATUS:CONFIRMED
DTSTART:20200612T140000Z
DTEND:20200612T150000Z
SUMMARY:Start:up Maribor Founders Meetup Junij 20'
DESCRIPTION:Aktivno povezujemo ustanovitelje podjetij z namenom izmenjave svojih izkušenj\, izzivov ter dajanja medsebojne podpore. Pogovor z nekom\, ki je v podobnem položaju kot ti sam\, vedno dobro dene in prinese olajšanje\, da nisi edini\, ki si zastavlja določena vprašanja. Nisi edini\, ki tako razmišlja in nisi edini\, ki mu trenutne dileme ne dajo spati. \n\n
LOCATION:Gostilna Anderlič
END:VEVENT
END:VCALENDAR