BEGIN:VCALENDAR
VERSION:1.0
BEGIN:VEVENT
CATEGORIES:
STATUS:CONFIRMED
DTSTART:20200324T140000Z
DTEND:20200324T150000Z
SUMMARY:Kako do 54.000 EUR nepovratnih sredstev za tvoj startup
DESCRIPTION:Kot vsako leto doslej\, tudi letos pričakujemo objavo razpisa P2\, ki ga za mlada (do starosti 14 mesecev) inovativna podjetja razpiše Slovenski podjetniški sklad. Pred teboj je program priprav za razpis in tudi že prvo srečanje\, kjer boš spoznal\, ali ustrezaš pogojem razpisa. \n\n
LOCATION:Tovarna podjemov
END:VEVENT
END:VCALENDAR