BEGIN:VCALENDAR
VERSION:1.0
BEGIN:VEVENT
CATEGORIES:
STATUS:CONFIRMED
DTSTART:20150310T180500Z
DTEND:20150310T190500Z
SUMMARY:Startup müsli: Kefirko
DESCRIPTION:Marko Borko\, ustanovitelj podjetja Borgla d.o.o.\, bo predstavil inovativno posodo za pripravo kefirja. Na Kickstarterju so zbrali 52.700 USD in s tem presegli cilj 30.000 USD.
 \n\n
LOCATION:KIBLA
END:VEVENT
END:VCALENDAR