BEGIN:VCALENDAR
VERSION:1.0
BEGIN:VEVENT
CATEGORIES:
STATUS:CONFIRMED
DTSTART:20191112T140000Z
DTEND:20191112T150000Z
SUMMARY:Zdrav denarni tok v podjetju
DESCRIPTION:Podjetje je orodje s katerim nastopamo na trgu in ima kot cilj poslovanja ustvariti dobiček.  Velikokrat pa so ravno finance (denarni tok) tiste\, ki jih preveč prepuščamo naključju – nimamo časa\, nimamo dovolj znanja ali pa imamo občutek\, da nas finance samo obremenjujejo in da to ni za nas. Denarni tok je za posel enako pomemben kot je krvni obtok v telesu.   \n\n
LOCATION:Tovarna podjemov\, podjetniški inkubator UM
END:VEVENT
END:VCALENDAR