BEGIN:VCALENDAR
VERSION:1.0
BEGIN:VEVENT
CATEGORIES:
STATUS:CONFIRMED
DTSTART:20150224T180500Z
DTEND:20150224T190500Z
SUMMARY:Startup Müsli & wwwhmb: Eleven MeetUp
DESCRIPTION:V sodelovanju z bolgarskim pospeševalnikom Eleven organiziramo prihodnji torek MeetUp. \n\n
LOCATION:KIBLA
END:VEVENT
END:VCALENDAR