BEGIN:VCALENDAR
VERSION:1.0
BEGIN:VEVENT
CATEGORIES:
STATUS:CONFIRMED
DTSTART:20190918T130000Z
DTEND:20190918T140000Z
SUMMARY:Spletno programiranje za bizniserje
DESCRIPTION:Želiš boljši vpogled v informacijsko tehnologijo\, ki ti omogoča\, da tvoj posel teče kot dobro namazana mašina? Te zanimajo pristopi in o(g)rodja\, ki se uporabljajo pri razvoju sodobnih spletnih aplikacij? Potem se pridruži seriji treh delavnic\, kjer te bomo marsikaj naučili tudi v praksi! 
 \n\n
LOCATION:Tovarna podjemov\, podjetniški inkubator UM
END:VEVENT
END:VCALENDAR