BEGIN:VCALENDAR
VERSION:1.0
BEGIN:VEVENT
CATEGORIES:
STATUS:CONFIRMED
DTSTART:20190905T130000Z
DTEND:20190905T140000Z
SUMMARY:Novosti Facebook oglaševanja
DESCRIPTION:Pravila igre se spreminjajo! Facebookov algoritem deluje še bolj natančno\, od vas pa ne zahteva več toliko tehničnega znanja kot doslej. Če ste se v preteklem letu mučili s pravili\, kako nastaviti oglas\, da bo povečal rast prodaje\, kako testirati in optimizirati kampanje\, to ne bo več tak problem! Da\, dobra novica je\, da bo to od sedaj naprej bolj enostavno! Že septembra začnejo veljati nova pravila.   
 \n\n
LOCATION:Tovarna podjemov
END:VEVENT
END:VCALENDAR