BEGIN:VCALENDAR
VERSION:1.0
BEGIN:VEVENT
CATEGORIES:
STATUS:CONFIRMED
DTSTART:20190604T170000Z
DTEND:20190604T180000Z
SUMMARY:Start:up Müsli: Prijazno je biti prijazen
DESCRIPTION:Ali veš\, da se predšolski otrok v povprečju nasmeji 300-krat na dan\, odrasla oseba pa samo 14-krat?
Razlog tiči v tem\, da ljudje pozabimo srčno skrbeti zase (s tem\, kako (ne)prijazno se pogovarjamo s sabo) in hkrati srčno skrbeti za druge (pozabljamo\, da vsak med nami bije svoje bitke). 
Za dobro vzdušje v delovnem okolju pa je potrebno dobro vzdušje znotraj vsakega zaposlenega: (ne)nasmeh in (ne)prĳaznost sta odraz našega notranjega sveta\, povezanega z voljo do življenja in vsega lepega\, kar nam je dano.

 \n\n
LOCATION:KID KIBLA\, Maribor
END:VEVENT
END:VCALENDAR