BEGIN:VCALENDAR
VERSION:1.0
BEGIN:VEVENT
CATEGORIES:
STATUS:CONFIRMED
DTSTART:20190423T170000Z
DTEND:20190423T180000Z
SUMMARY:Start:up Müsli: Kako uspeti kot oblikovalec v pogojih kitajske hiperprodukcije
DESCRIPTION:Tedni mode\, modne revije in vedno več slovenskih oblikovalcev oblačil s prepoznanim talentom v svetovnih prestolnicah mode nakazujejo\, da Slovenija nikakor ne spi na področju mode. Slovenci radi kupujemo tudi dizajnerske kose oblačil in vedno bolj prepoznavamo njihovo nosljivost.
Pot oblikovalca oblačil od prvih krojev pa do prepoznane blagovne znamke\, pa je vse vse prej kot enostavna...
 \n\n
LOCATION:KID KIBLA\, Maribor
END:VEVENT
END:VCALENDAR