BEGIN:VCALENDAR
VERSION:1.0
BEGIN:VEVENT
CATEGORIES:
STATUS:CONFIRMED
DTSTART:20190418T130000Z
DTEND:20190418T140000Z
SUMMARY:Industrijski dizajn v praksi
DESCRIPTION:Te zanima industrijsko oblikovanje\, pa ne veš\, kako se ga lotiti? Razvijaš ali želiš razvijati ali proizvajati produkt? Pridi na delavnico\, na kateri se boš naučil osnov industrijskega dizajna in pridobil celovit vpogled v to industrijsko oblikovanje. \n\n
LOCATION:Tovarna podjemov\, podjetniški inkubator UM
END:VEVENT
END:VCALENDAR