BEGIN:VCALENDAR
VERSION:1.0
BEGIN:VEVENT
CATEGORIES:
STATUS:CONFIRMED
DTSTART:20190409T130000Z
DTEND:20190409T140000Z
SUMMARY:Oglaševanje na Instagramu
DESCRIPTION:Si želiš izvedeti\, kako zaslužiti s pomočjo Instagrama?
Želiš poznati razliko med promovirano in plačljivo objavo in kdaj katero uporabiti?
Želiš znati uporabljati orodje za plačljivo oglaševanje? \n\n
LOCATION:Tovarna podjemov\, podjetniški inkubator UM
END:VEVENT
END:VCALENDAR