BEGIN:VCALENDAR
VERSION:1.0
BEGIN:VEVENT
CATEGORIES:
STATUS:CONFIRMED
DTSTART:20190408T130000Z
DTEND:20190408T140000Z
SUMMARY:Priprave na DEMO DAN P2 
DESCRIPTION:Če razvijaš start-up podjetje z inovativnim produktom in potencialnom hitre rasti in si se prijavil na predselekcijo P2\, je naslednji korak\, da svojo idejo učinkovito predstaviš komisiji na DEMO Dnevu\, ki ti lahko podeli 35 od 100 možnih točk.  \n\n
LOCATION:Tovarna podjemov\, podjetniški inkubator UM
END:VEVENT
END:VCALENDAR