BEGIN:VCALENDAR
VERSION:1.0
BEGIN:VEVENT
CATEGORIES:
STATUS:CONFIRMED
DTSTART:20190322T120000Z
DTEND:20190322T130000Z
SUMMARY:Z MailChimp-om do uspešnih email kampanj 
DESCRIPTION:Ali za pošiljanje množične elektronske pošte še vedno uporabljaš Outlook ali Gmail? Ali veš\, koliko prejemnikov je tvoje sporočilo odprlo in koliko jih je kliknilo na posamezno povezavo? Ali veš\, da obstaja orodje\, ki ti to omogoča brezplačno?
 \n\n
LOCATION:Tovarna podjemov\, podjetniški inkubator UM
END:VEVENT
END:VCALENDAR