BEGIN:VCALENDAR
VERSION:1.0
BEGIN:VEVENT
CATEGORIES:
STATUS:CONFIRMED
DTSTART:20190307T140000Z
DTEND:20190307T150000Z
SUMMARY:Kako do vavčerja za zaščito intelektualne lastnine
DESCRIPTION:Se tudi ti zavedaš\, da je intelektualna lastnina temeljni del vrednost vsakega podjetja? Imaš patent\, model\, znamko\, ki bi jo želel-a zaščititi? Se sprašuješ\, ali jo je sploh smiselno zaščititi?  \n\n
LOCATION:Tovarna podjemov\, podjetniški inkubator UM
END:VEVENT
END:VCALENDAR