BEGIN:VCALENDAR
VERSION:1.0
BEGIN:VEVENT
CATEGORIES:
STATUS:CONFIRMED
DTSTART:20181120T180500Z
DTEND:20181120T190500Z
SUMMARY:Start:up Müsli: Podjetniške zgodbe našega mesta
DESCRIPTION:Vsak podjetnik stopa po svoji poti nekoliko drugače. Nekateri odraščajo ob starših podjetnikih\, drugi podjetništvo spoznajo šele v odrasli dobi. Nekateri imajo ambicije poslovati po celem svetu\, drugim pa največje veselje daje posel\, ki je vezan bolj na lokalno okolje. Na tokratnem müsliju boste spoznali tri zgodbe\, ki je vsaka po svoje zanimiva\, unikatna in navdihujoča. \n\n
LOCATION:@KID KIBLA\, Maribor
END:VEVENT
END:VCALENDAR