BEGIN:VCALENDAR
VERSION:1.0
BEGIN:VEVENT
CATEGORIES:
STATUS:CONFIRMED
DTSTART:20181106T151500Z
DTEND:20181106T161500Z
SUMMARY:Delavnica: Kako s prototipom prihraniti čas in denar
DESCRIPTION:Si se že kdaj lotil izdelave digitalnega prototipa preden si lansiral nov produkt ali posodobitev obstoječega? Ne? Izdelava prototipa je zelo uporaben postopek\, ki ti pomaga privarčevati čas in denar. Prototip je testni izdelek\, ki ti omogoča takojšnje preverjanje izdelka z vidika oblike in uporabe ter posledično izboljšuje končni produkt. Z njim si lahko pomagaš tudi pri nagovarjanju potencialnih investitorjev in tako prihraniš veliko denarja\, ki bi ga sicer zapravil za izdelavo vedno novih izboljšanih produktov. \n\n
LOCATION:Tovarna podjemov\, podjetniški inkubator UM
END:VEVENT
END:VCALENDAR