BEGIN:VCALENDAR
VERSION:1.0
BEGIN:VEVENT
CATEGORIES:
STATUS:CONFIRMED
DTSTART:20181023T170500Z
DTEND:20181023T180500Z
SUMMARY:Start:up Müsli: Kako izbrati in uigrati zmagovalno ekipo
DESCRIPTION:Poslovni uspeh je vedno rezultat dela celotne ekipe. Zakaj nekatere ekipe delujejo složno\, kljub različnim pogledom na določeno stvar\, v drugih pa neprestano prihaja do glasnega nestrinjanja\, katerega posledica je neusklajeno poslovanje\, stres ob prihodu v službo in pogosteje pojavljanje napak? \n\n
LOCATION:@KID KIBLA\, Maribor
END:VEVENT
END:VCALENDAR