BEGIN:VCALENDAR
VERSION:1.0
BEGIN:VEVENT
CATEGORIES:
STATUS:CONFIRMED
DTSTART:20180925T140000Z
DTEND:20180925T150000Z
SUMMARY:Delavnica: Marketing je mrtev – naj živi marCAREting 
DESCRIPTION:Marketing iz leta 2005 je mrtev. Marketing\, ki vsak dan govori: »KUPI\, KUPI\, KUPI. Vse po polovični ceni. Danes 20% popust na celoten nakup. Nudimo najboljšo kvaliteto po najnižji ceni.«  Marketing\, ki zavaja\, podcenjuje in verjemi\, njihovi rezultati niso to\, kar si ti želiš. \n\n
LOCATION:Tovarna podjemov\, podjetniški inkubator UM
END:VEVENT
END:VCALENDAR