BEGIN:VCALENDAR
VERSION:1.0
BEGIN:VEVENT
CATEGORIES:
STATUS:CONFIRMED
DTSTART:20180612T140000Z
DTEND:20180612T150000Z
SUMMARY:Delavnica: Skrivnosti SEO optimizacije in Google Adwords oglaševanja
DESCRIPTION:Na tokratni delavnici ne zamudi strategije za izboljšanje položaja tvoje strani na Googlu in praktičnih nasvetov za plačljivo Google Adwords oglaševanje. Z nami bo Goran Krajačič\, ki je vrhunski strokovnjak na področju SEO optimizacije in Google Adwords oglaševanja. \n\n
LOCATION:Tovarna podjemov\, podjetniški inkubator UM
END:VEVENT
END:VCALENDAR