BEGIN:VCALENDAR
VERSION:1.0
BEGIN:VEVENT
CATEGORIES:
STATUS:CONFIRMED
DTSTART:20180529T170500Z
DTEND:20180529T180500Z
SUMMARY:Start:up Müsli: Pozitivne misli so pot do uspeha
DESCRIPTION:Tema tokratnega Müslija bo malce drugačna in posebna\, a še kako pomembna za nas\, kot posameznike in kot podjetnike. Z izjemno gostjo\, dr. Sanelo Banović\, zdravnico\, zaposleno na gastro - enterološkem oddelku UKC\, bomo govorili o moči naših misli. \n\n
LOCATION:@KID KIBLA\, Maribor
END:VEVENT
END:VCALENDAR