BEGIN:VCALENDAR
VERSION:1.0
BEGIN:VEVENT
CATEGORIES:
STATUS:CONFIRMED
DTSTART:20180514T180000Z
DTEND:20180514T190000Z
SUMMARY:Start:up Müsli: S sodelovanjem do novih poslovnih priložnosti. 
DESCRIPTION:Rdeča nit tokratnega Müslija je mreženje in podjetniško povezovanje ter sodelovanje\, ki je z uspehom podjetja tesno povezano. Slovenskim startupom se bodo pridružili tuji podjetniki in podjetniki s slovenskimi koreninami\, ki živijo in delujejo izven meja Slovenije\, v Italiji\, Avstriji\, na Hrvaškem in Madžarskem. \n\n
LOCATION:@KID KIBLA\, Maribor
END:VEVENT
END:VCALENDAR