BEGIN:VCALENDAR
VERSION:1.0
BEGIN:VEVENT
CATEGORIES:
STATUS:CONFIRMED
DTSTART:20141209T130000Z
DTEND:20141209T140000Z
SUMMARY:Delavnica: Start:up Maribor Geek House School
DESCRIPTION:Priprava zmagovalnega pitcha! Udeleženci bodo pripravljali svoj zmagovalni pitch.

 \n\n
LOCATION:Tovarna podjemov\, podjetniški inkubator UM
END:VEVENT
END:VCALENDAR