BEGIN:VCALENDAR
VERSION:1.0
BEGIN:VEVENT
CATEGORIES:
STATUS:CONFIRMED
DTSTART:20171222T160000Z
DTEND:20171222T170000Z
SUMMARY:Delavnica: Aktivno trgovanje s kriptovalutami
DESCRIPTION:Predavanje o aktivnem trgovanju\, obvladovanju tveganja in razumevanju gibanja kriptovalut. Kako s tehnično analizo predvideti nadaljnji trend in najti naslednjo zmagovalno valuto.  \n\n
LOCATION:@Tovarna podjemov\, Maribor
END:VEVENT
END:VCALENDAR