BEGIN:VCALENDAR
VERSION:1.0
BEGIN:VEVENT
CATEGORIES:
STATUS:CONFIRMED
DTSTART:20141209T180000Z
DTEND:20141209T190000Z
SUMMARY:Start:up GROOVE in Pitch Müsli
DESCRIPTION:Prijavljeni udeleženci bodo imeli možnost javno predstaviti svoje podjetniške ideje in se potegovati za vstop v Startup GeekHouse coworking space prostor Tovarne podjemov. Sledila bo nepozabna startup zabava.  \n\n
LOCATION:KIBLA
END:VEVENT
END:VCALENDAR