BEGIN:VCALENDAR
VERSION:1.0
BEGIN:VEVENT
CATEGORIES:
STATUS:CONFIRMED
DTSTART:20251125T170000Z
DTEND:20251125T180000Z
SUMMARY:Startup resnica: Kaj nihče ne pove na začetku
DESCRIPTION: \n\n
LOCATION:
END:VEVENT
END:VCALENDAR