BEGIN:VCALENDAR
VERSION:1.0
BEGIN:VEVENT
CATEGORIES:
STATUS:CONFIRMED
DTSTART:20251107T080000Z
DTEND:20251107T090000Z
SUMMARY:AI v praksi: od prvega Custom GPT-ja do avtomatiziranega procesa
DESCRIPTION: \n\n
LOCATION:Tovarna podjemov\, Maribor
END:VEVENT
END:VCALENDAR