BEGIN:VCALENDAR
VERSION:1.0
BEGIN:VEVENT
CATEGORIES:
STATUS:CONFIRMED
DTSTART:20250701T160000Z
DTEND:20250701T170000Z
SUMMARY:AI za startupe: avtomatiziraj marketing\, opravila in vse vmes
DESCRIPTION:Startup tempo ne dopušča izgube časa – in prav tu nastopi AI. Na tej praktični delavnici te naučimo\, kako z umetno inteligenco avtomatiziraš ključne marketinške naloge\, pohitriš rutinska opravila in ustvariš orodja\, ki ti vsak teden prihranijo 10+ ur dela. \n\n
LOCATION:KID Kibla
END:VEVENT
END:VCALENDAR