BEGIN:VCALENDAR
VERSION:1.0
BEGIN:VEVENT
CATEGORIES:
STATUS:CONFIRMED
DTSTART:20250114T140000Z
DTEND:20250114T150000Z
SUMMARY:Pripravi svoj startup za uspeh na razpisu P2 2025 in osvoji 72.000 €
DESCRIPTION:Si startup podjetnik z inovativno idejo? Želiš pridobiti nepovratna sredstva za razvoj svojega produkta?
 \n\n
LOCATION:Tovarna podjemov\, Maribor
END:VEVENT
END:VCALENDAR