BEGIN:VCALENDAR
VERSION:1.0
BEGIN:VEVENT
CATEGORIES:
STATUS:CONFIRMED
DTSTART:20251216T060000Z
DTEND:20251216T070000Z
SUMMARY:Strategije za identifikacijo in razvoj mednarodnih prebojnih  podjemov
DESCRIPTION:Pridruži se Akademiji inovativnega podjetništva\, kjer boš na praktičnih primerih spoznal proces in strategije za identifikacijo in razvoj mednarodnih prebojnih podjemov. \n\n
LOCATION:Fakulteta za elektrotehniko\, računalništvo in informatiko\, Maribor
END:VEVENT
END:VCALENDAR