BEGIN:VCALENDAR
VERSION:1.0
BEGIN:VEVENT
CATEGORIES:
STATUS:CONFIRMED
DTSTART:20241030T150000Z
DTEND:20241030T160000Z
SUMMARY:Testiranje poslovnih idej na primerih iz prakse
DESCRIPTION:Pridruži se podjetniški delavnici\, kjer boš skozi praktične primere spoznal pomen testiranja poslovnih idej in razvil veščine\, potrebne za podjetniški uspeh. \n\n
LOCATION:FERI UM\, Učilnica P01
END:VEVENT
END:VCALENDAR